BEGIN:VCALENDAR
VERSION:2.0
PRODID:-//Cyril Robin - ECPv6.15.20//NONSGML v1.0//EN
CALSCALE:GREGORIAN
METHOD:PUBLISH
X-ORIGINAL-URL:https://www.violoneux.ch
X-WR-CALDESC:Évènements pour Cyril Robin
REFRESH-INTERVAL;VALUE=DURATION:PT1H
X-Robots-Tag:noindex
X-PUBLISHED-TTL:PT1H
BEGIN:VTIMEZONE
TZID:Europe/Zurich
BEGIN:DAYLIGHT
TZOFFSETFROM:+0100
TZOFFSETTO:+0200
TZNAME:CEST
DTSTART:20230326T010000
END:DAYLIGHT
BEGIN:STANDARD
TZOFFSETFROM:+0200
TZOFFSETTO:+0100
TZNAME:CET
DTSTART:20231029T010000
END:STANDARD
BEGIN:DAYLIGHT
TZOFFSETFROM:+0100
TZOFFSETTO:+0200
TZNAME:CEST
DTSTART:20240331T010000
END:DAYLIGHT
BEGIN:STANDARD
TZOFFSETFROM:+0200
TZOFFSETTO:+0100
TZNAME:CET
DTSTART:20241027T010000
END:STANDARD
BEGIN:DAYLIGHT
TZOFFSETFROM:+0100
TZOFFSETTO:+0200
TZNAME:CEST
DTSTART:20250330T010000
END:DAYLIGHT
BEGIN:STANDARD
TZOFFSETFROM:+0200
TZOFFSETTO:+0100
TZNAME:CET
DTSTART:20251026T010000
END:STANDARD
END:VTIMEZONE
BEGIN:VEVENT
DTSTART;TZID=Europe/Zurich:20241129T200000
DTEND;TZID=Europe/Zurich:20241129T230000
DTSTAMP:20260420T181740
CREATED:20240515T195913Z
LAST-MODIFIED:20241020T144607Z
UID:523-1732910400-1732921200@www.violoneux.ch
SUMMARY:Concert Tchaïkovski avec L'Orchestre Symphonique Genevois
DESCRIPTION:Programme : \nConcerto pour Violon et Orchestre de Tchaïkovski\nSymphonie No 4 de Tchaïkovski \nSidonie Bougamont\, violon \nChristophe Sturzenegger\, direction \nBilletterie : https://billetterie-culture.geneve.ch
URL:https://www.violoneux.ch/concert/concert-tchaikovski-avec-lorchestre-symphonique-genevois/
LOCATION:Victoria Hall\, Rue du Général-Dufour 14\, Genève\, 1204\, Suisse
CATEGORIES:Concert dans un orchestre,Orchestre Symphonique Genevois
ATTACH;FMTTYPE=image/png:https://www.violoneux.ch/wordpress/wp-content/uploads/2024/05/OSG-2024-11-e1729435535750.png
ORGANIZER;CN="Orchestre Symphonique Genevois":MAILTO:info@symph.ch
END:VEVENT
END:VCALENDAR