BEGIN:VCALENDAR
VERSION:2.0
PRODID:-//Cyril Robin - ECPv6.15.20//NONSGML v1.0//EN
CALSCALE:GREGORIAN
METHOD:PUBLISH
X-ORIGINAL-URL:https://www.violoneux.ch
X-WR-CALDESC:Évènements pour Cyril Robin
REFRESH-INTERVAL;VALUE=DURATION:PT1H
X-Robots-Tag:noindex
X-PUBLISHED-TTL:PT1H
BEGIN:VTIMEZONE
TZID:Europe/Zurich
BEGIN:DAYLIGHT
TZOFFSETFROM:+0100
TZOFFSETTO:+0200
TZNAME:CEST
DTSTART:20220327T010000
END:DAYLIGHT
BEGIN:STANDARD
TZOFFSETFROM:+0200
TZOFFSETTO:+0100
TZNAME:CET
DTSTART:20221030T010000
END:STANDARD
BEGIN:DAYLIGHT
TZOFFSETFROM:+0100
TZOFFSETTO:+0200
TZNAME:CEST
DTSTART:20230326T010000
END:DAYLIGHT
BEGIN:STANDARD
TZOFFSETFROM:+0200
TZOFFSETTO:+0100
TZNAME:CET
DTSTART:20231029T010000
END:STANDARD
BEGIN:DAYLIGHT
TZOFFSETFROM:+0100
TZOFFSETTO:+0200
TZNAME:CEST
DTSTART:20240331T010000
END:DAYLIGHT
BEGIN:STANDARD
TZOFFSETFROM:+0200
TZOFFSETTO:+0100
TZNAME:CET
DTSTART:20241027T010000
END:STANDARD
END:VTIMEZONE
BEGIN:VEVENT
DTSTART;TZID=Europe/Zurich:20230324T200000
DTEND;TZID=Europe/Zurich:20230324T230000
DTSTAMP:20260421T221118
CREATED:20240223T212331Z
LAST-MODIFIED:20240618T124024Z
UID:501-1679688000-1679698800@www.violoneux.ch
SUMMARY:Western Spaghetti avec Bande-Son
DESCRIPTION:“SPAGHETTI WESTERN” est un concert unique de l’Orchestre symphonique Bande-Son qui présente des reconstitutions musicales inédites de l’ère du western italien\, un genre cinématographique révolutionné par Sergio Leone. Plus de 120 musiciens raviveront cette époque avec une performance sous le soleil brûlant de l’Ouest.
URL:https://www.violoneux.ch/concert/western-spaghetti-avec-bande-son/
LOCATION:Salle de Chisaz\, Crissier\, Chemin de Chisaz 1\, Crissier\, 1023\, Switzerland
CATEGORIES:Bande-Son,Concert dans un orchestre
ATTACH;FMTTYPE=image/jpeg:https://www.violoneux.ch/wordpress/wp-content/uploads/2024/02/2023_Bande-Son_WesternSpaghetti.jpg
END:VEVENT
BEGIN:VEVENT
DTSTART;TZID=Europe/Zurich:20230325T200000
DTEND;TZID=Europe/Zurich:20230325T230000
DTSTAMP:20260421T221118
CREATED:20240223T212446Z
LAST-MODIFIED:20240618T124001Z
UID:503-1679774400-1679785200@www.violoneux.ch
SUMMARY:Western Spaghetti avec Bande-Son
DESCRIPTION:“SPAGHETTI WESTERN” est un concert unique de l’Orchestre symphonique Bande-Son qui présente des reconstitutions musicales inédites de l’ère du western italien\, un genre cinématographique révolutionné par Sergio Leone. Plus de 120 musiciens raviveront cette époque avec une performance sous le soleil brûlant de l’Ouest.
URL:https://www.violoneux.ch/concert/western-spaghetti-avec-bande-son-2/
LOCATION:Salle de Chisaz\, Crissier\, Chemin de Chisaz 1\, Crissier\, 1023\, Switzerland
CATEGORIES:Bande-Son,Concert dans un orchestre
END:VEVENT
BEGIN:VEVENT
DTSTART;TZID=Europe/Zurich:20230326T170000
DTEND;TZID=Europe/Zurich:20230326T200000
DTSTAMP:20260421T221118
CREATED:20240223T212844Z
LAST-MODIFIED:20240618T123927Z
UID:505-1679850000-1679860800@www.violoneux.ch
SUMMARY:Western Spaghetti avec Bande-Son
DESCRIPTION:“SPAGHETTI WESTERN” est un concert unique de l’Orchestre symphonique Bande-Son qui présente des reconstitutions musicales inédites de l’ère du western italien\, un genre cinématographique révolutionné par Sergio Leone. Plus de 120 musiciens raviveront cette époque avec une performance sous le soleil brûlant de l’Ouest.
URL:https://www.violoneux.ch/concert/western-spaghetti-avec-bande-son-3/
LOCATION:Salle de Chisaz\, Crissier\, Chemin de Chisaz 1\, Crissier\, 1023\, Switzerland
CATEGORIES:Bande-Son,Concert dans un orchestre
ATTACH;FMTTYPE=image/jpeg:https://www.violoneux.ch/wordpress/wp-content/uploads/2024/02/2023_Bande-Son_WesternSpaghetti.jpg
END:VEVENT
END:VCALENDAR