BEGIN:VCALENDAR
VERSION:2.0
PRODID:-//Cyril Robin - ECPv6.15.20//NONSGML v1.0//EN
CALSCALE:GREGORIAN
METHOD:PUBLISH
X-WR-CALNAME:Cyril Robin
X-ORIGINAL-URL:https://www.violoneux.ch
X-WR-CALDESC:Évènements pour Cyril Robin
REFRESH-INTERVAL;VALUE=DURATION:PT1H
X-Robots-Tag:noindex
X-PUBLISHED-TTL:PT1H
BEGIN:VTIMEZONE
TZID:Europe/Zurich
BEGIN:DAYLIGHT
TZOFFSETFROM:+0100
TZOFFSETTO:+0200
TZNAME:CEST
DTSTART:20240331T010000
END:DAYLIGHT
BEGIN:STANDARD
TZOFFSETFROM:+0200
TZOFFSETTO:+0100
TZNAME:CET
DTSTART:20241027T010000
END:STANDARD
BEGIN:DAYLIGHT
TZOFFSETFROM:+0100
TZOFFSETTO:+0200
TZNAME:CEST
DTSTART:20250330T010000
END:DAYLIGHT
BEGIN:STANDARD
TZOFFSETFROM:+0200
TZOFFSETTO:+0100
TZNAME:CET
DTSTART:20251026T010000
END:STANDARD
BEGIN:DAYLIGHT
TZOFFSETFROM:+0100
TZOFFSETTO:+0200
TZNAME:CEST
DTSTART:20260329T010000
END:DAYLIGHT
BEGIN:STANDARD
TZOFFSETFROM:+0200
TZOFFSETTO:+0100
TZNAME:CET
DTSTART:20261025T010000
END:STANDARD
END:VTIMEZONE
BEGIN:VEVENT
DTSTART;TZID=Europe/Zurich:20251123T170000
DTEND;TZID=Europe/Zurich:20251123T170000
DTSTAMP:20260420T102649
CREATED:20251011T181520Z
LAST-MODIFIED:20251011T181520Z
UID:572-1763917200-1763917200@www.violoneux.ch
SUMMARY:Concert de l'Orchestre Symphonique Genevois Beethoven\, Weber\, Sibelius\, Tchaïkovski
DESCRIPTION:Ludwig van Beethoven Ouverture «Coriolan» op. 62 \nCarl Maria von Weber Concerto no 2 pour clarinette et orchestre op. 74 \nJean Sibelius Finlandia op. 26 \nPiotr Ilitch Tchaïkovski Extraits du ballet «Lac des Cygnes» op. 20 \nDirection : Anthony Fournier \nClarinette : Damien Bachmann
URL:https://www.violoneux.ch/concert/concert-de-lorchestre-symphonique-genevois-beethoven-weber-sibelius-tchaikovski/
LOCATION:Victoria Hall\, Rue du Général-Dufour 14\, Genève\, 1204\, Suisse
CATEGORIES:Concert dans un orchestre,Orchestre Symphonique Genevois
ATTACH;FMTTYPE=image/png:https://www.violoneux.ch/wordpress/wp-content/uploads/2025/10/OSG-2025-11-23-beethoven-sibelius-weber-tchaikovski.png
ORGANIZER;CN="Orchestre Symphonique Genevois":MAILTO:info@symph.ch
END:VEVENT
END:VCALENDAR